BEGIN:VCALENDAR
VERSION:2.0
PRODID:spatie/icalendar-generator
DESCRIPTION:Events from Safe Driver Academy
X-WR-CALDESC:Events from Safe Driver Academy
REFRESH-INTERVAL;VALUE=DURATION:PT1440M
X-PUBLISHED-TTL:PT1440M
BEGIN:VTIMEZONE
TZID:Etc/GMT+0
BEGIN:STANDARD
DTSTART:20250318T000000Z
TZOFFSETFROM:+0000
TZOFFSETTO:+0000
END:STANDARD
END:VTIMEZONE
BEGIN:VTIMEZONE
TZID:UTC
BEGIN:STANDARD
DTSTART:20250726T105211Z
TZOFFSETFROM:+0000
TZOFFSETTO:+0000
END:STANDARD
END:VTIMEZONE
BEGIN:VEVENT
UID:595-555
DTSTAMP:20260422T105211Z
SUMMARY:INDEPENDENT CHURCH CLASS
LOCATION:
ORGANIZER;CN=admin2:MAILTO:ray@safedriveracademyny.com
DTSTART;TZID=Etc/GMT+0;VALUE=DATE:20251213
DTEND;TZID=Etc/GMT+0;VALUE=DATE:20251214
X-ALT-DESC;FMTTYPE=TEXT/HTML:INDEPENDENT CHURCH CLASS To schedule a class f
 or your church\, call Ray Geska at (716) 541-8385
CATEGORIES:Unavailable
URL;VALUE=URI:https://safedriveracademyny.com/mc-events/independent-church-
 class/
METHOD:PUBLISH
END:VEVENT
END:VCALENDAR