BEGIN:VCALENDAR
VERSION:2.0
PRODID:spatie/icalendar-generator
DESCRIPTION:Events from Safe Driver Academy
X-WR-CALDESC:Events from Safe Driver Academy
REFRESH-INTERVAL;VALUE=DURATION:PT1440M
X-PUBLISHED-TTL:PT1440M
BEGIN:VTIMEZONE
TZID:Etc/GMT+0
BEGIN:STANDARD
DTSTART:20250523T000000Z
TZOFFSETFROM:+0000
TZOFFSETTO:+0000
END:STANDARD
END:VTIMEZONE
BEGIN:VTIMEZONE
TZID:UTC
BEGIN:STANDARD
DTSTART:20250725T100211Z
TZOFFSETFROM:+0000
TZOFFSETTO:+0000
END:STANDARD
END:VTIMEZONE
BEGIN:VEVENT
UID:564-528
DTSTAMP:20260421T100211Z
SUMMARY:TONAWANDA SENIOR CENTER
LOCATION:
ORGANIZER;CN=admin2:MAILTO:ray@safedriveracademyny.com
DTSTART;TZID=Etc/GMT+0:20260217T000000
DTEND;TZID=Etc/GMT+0:20260217T010000
X-ALT-DESC;FMTTYPE=TEXT/HTML:TONAWANDA SENIOR CTR 9 am - 3 pm (716) 874-326
 6 Fee: $35
CATEGORIES:General
URL;VALUE=URI:https://safedriveracademyny.com/mc-events/tonawanda-senior-ce
 nter-16/
METHOD:PUBLISH
END:VEVENT
END:VCALENDAR