BEGIN:VCALENDAR
VERSION:2.0
PRODID:spatie/icalendar-generator
DESCRIPTION:Events from Safe Driver Academy
X-WR-CALDESC:Events from Safe Driver Academy
REFRESH-INTERVAL;VALUE=DURATION:PT1440M
X-PUBLISHED-TTL:PT1440M
BEGIN:VTIMEZONE
TZID:Etc/GMT+0
BEGIN:STANDARD
DTSTART:20240929T000000Z
TZOFFSETFROM:+0000
TZOFFSETTO:+0000
END:STANDARD
END:VTIMEZONE
BEGIN:VTIMEZONE
TZID:UTC
BEGIN:STANDARD
DTSTART:20250724T092721Z
TZOFFSETFROM:+0000
TZOFFSETTO:+0000
END:STANDARD
END:VTIMEZONE
BEGIN:VEVENT
UID:430-409
DTSTAMP:20260420T092721Z
SUMMARY:CHAUTAUQUA CENTER JAMESTOWN
LOCATION:
ORGANIZER;CN=admin2:MAILTO:ray@safedriveracademyny.com
DTSTART;TZID=Etc/GMT+0;VALUE=DATE:20250626
DTEND;TZID=Etc/GMT+0;VALUE=DATE:20250627
X-ALT-DESC;FMTTYPE=TEXT/HTML:CHAUTAUQUA CTR JAMESTOWN 9 am - 3 pm (716) 763
 -1012 CLASS IS FULL!
CATEGORIES:Full Classes
URL;VALUE=URI:https://safedriveracademyny.com/mc-events/chautauqua-center-j
 amestown-2/
METHOD:PUBLISH
END:VEVENT
END:VCALENDAR